BEGIN:VCALENDAR
VERSION:2.0
METHOD:PUBLISH
BEGIN:VEVENT
UID:WILD_APRICOT_EVENT_2641836_SESSION_1
DTSTART:20170927T050000Z
DTEND:20170927T053000Z
SUMMARY:Annual General Meeting (2017)
LOCATION:Rosebank College\, 1a Harris Road Five Dock NSW 2046
DESCRIPTION:https://www.mitie.edu.au/event-2641836\n\nN.B. Registration is closed: past event.\n
DTSTAMP:20200301T215638Z
END:VEVENT
END:VCALENDAR
