BEGIN:VCALENDAR
VERSION:2.0
METHOD:PUBLISH
BEGIN:VEVENT
UID:WILD_APRICOT_EVENT_2641983_SESSION_1
DTSTART:20170926T140000Z
DTEND:20170927T140000Z
SUMMARY:Term 3 Conference (NSW) @ Rosebank College
LOCATION:Rosebank College\, 1a Harris Road Five Dock NSW 2046
DESCRIPTION:https://www.mitie.edu.au/event-2641983\n\nN.B. Registration is closed: past event.\n
DTSTAMP:20260424T155110Z
END:VEVENT
END:VCALENDAR
