BEGIN:VCALENDAR
VERSION:2.0
METHOD:PUBLISH
BEGIN:VEVENT
UID:WILD_APRICOT_EVENT_2655944_SESSION_1
DTSTART:20171004T214500Z
DTEND:20171004T214500Z
SUMMARY:SA: Term 4 Conference @ St Michael's College
LOCATION:St Michaels College\, 15 Mitton Avenue\, Henley Beach 5022
DESCRIPTION:https://www.mitie.edu.au/event-2655944\n\nN.B. Registration is closed: past event.\n\n
DTSTAMP:20200301T215624Z
END:VEVENT
END:VCALENDAR
