BEGIN:VCALENDAR
VERSION:2.0
METHOD:PUBLISH
BEGIN:VEVENT
UID:WILD_APRICOT_EVENT_2680126_SESSION_1
DTSTART:20171112T211500Z
DTEND:20171113T043500Z
SUMMARY:NSW: Term 4 Conference @ Microsoft\, North Ryde
LOCATION:1 Epping Rd\, North Ryde NSW 2113
DESCRIPTION:https://www.mitie.edu.au/event-2680126\n\nN.B. Registration is closed: past event.\n\n  This term conference\, the final for 2017\, is being held at the Microsoft offices\, located in North Ryde.\n\n  Take a look at the Conference Program  while thinking about the public transport and parking options.  There is limited parking on site - be aware!\n  We would like to thank Microsoft for hosting us for the day\, as well as our Term 4 Conference sponsors:  \n  The ClickView LiveStream can be viewed here: https://clickv.ie/w/4Mci\n\n  Gold: \n\n  \n  Silver:\n\n        \n         \n  We look forward to seeing everyone there!\n
DTSTAMP:20200301T214923Z
END:VEVENT
END:VCALENDAR
