BEGIN:VCALENDAR
VERSION:2.0
METHOD:PUBLISH
BEGIN:VEVENT
UID:WILD_APRICOT_EVENT_2715827_SESSION_1
DTSTART:20180418T224500Z
DTEND:20180419T063000Z
SUMMARY:SA: Term 1 Conference @ Rostrevor College
LOCATION:67‑91 Glen Stuart Road\, Woodforde\, SA  5072
DESCRIPTION:https://www.mitie.edu.au/event-2715827\n\n             \n\n     N.B. Registration is closed: past event.\n    Keep an eye on the Forum for other announcements and more information.\n    Registration Charges (to cover catering)\n        * Forum and non-members of MITIE may register for $55 including GST\n\n          * Professional members may register for the discounted rate of $44 including GST\n\n    The program is here\n    \n\n 
DTSTAMP:20200301T215549Z
END:VEVENT
END:VCALENDAR
