BEGIN:VCALENDAR
VERSION:2.0
METHOD:PUBLISH
BEGIN:VEVENT
UID:WILD_APRICOT_EVENT_2761123_SESSION_1
DTSTART:20180416T221500Z
DTEND:20180417T060000Z
SUMMARY:NSW: Term 1 Conference @ Roseville
LOCATION:27 Bancroft Ave\, Roseville NSW 2069
DESCRIPTION:https://www.mitie.edu.au/event-2761123\n\n                                        \n\n  N.B. Registration is closed: past event. \n  Keep an eye on the Forum for announcements and more information.\n  Registrations Charges (to cover catering):\n      * Forum and non-members of MITIE may register for $55 including GST\n\n        * Professional members may register for the discounted rate of $44 including GST\n\n  The program is here.\n
DTSTAMP:20200301T215612Z
END:VEVENT
END:VCALENDAR
