BEGIN:VCALENDAR
VERSION:2.0
METHOD:PUBLISH
BEGIN:VEVENT
UID:WILD_APRICOT_EVENT_2800801_SESSION_1
DTSTART:20181007T211500Z
DTEND:20181008T050000Z
SUMMARY:NSW/ACT: MITIE Term 3 Conference @ Canberra Grammar School
LOCATION:Canberra Grammar School 40 Monaro Cres\, Red Hill ACT 2603
DESCRIPTION:https://www.mitie.edu.au/event-2800801\n\n       \n\n  N.B. Registration is closed: past event. Here is a link to the  program.\n  Keep an eye on the Forum for more information and announcements.\n  \n\n  AV Partner: Custom Presentation Systems: Audio Visual Design\, Supply and Installation Specialists\n  \n\n  \n\n
DTSTAMP:20260424T155423Z
END:VEVENT
END:VCALENDAR
