BEGIN:VCALENDAR
VERSION:2.0
METHOD:PUBLISH
BEGIN:VEVENT
UID:WILD_APRICOT_EVENT_2864584_SESSION_1
DTSTART:20180709T221500Z
DTEND:20180710T060000Z
SUMMARY:NSW: Term 2 Conference @ St Augustine's
LOCATION:St Augustine's College\, Federal Pde\, Brookvale NSW 2100
DESCRIPTION:https://www.mitie.edu.au/event-2864584\n\n\n\n  \n\n  N.B. Registration is closed: past event.\n  Keep an eye on the Forum for more information and announcements.\n\n  The program is here.\n  \n\n  \n\n
DTSTAMP:20260424T153551Z
END:VEVENT
END:VCALENDAR
