BEGIN:VCALENDAR
VERSION:2.0
METHOD:PUBLISH
BEGIN:VEVENT
UID:WILD_APRICOT_EVENT_2890093_SESSION_1
DTSTART:20180708T221500Z
DTEND:20180709T060000Z
SUMMARY:Tasmania: Term 2 Conference @ The Friends' School
LOCATION:The Friends' School\, 23 Commercial Rd\, North Hobart TAS 7000
DESCRIPTION:https://www.mitie.edu.au/event-2890093\n\n  \n\n  N.B. Registration is closed: past event.\n  Keep an eye on your email and the Forum for more information and announcements.\n  Registration is free for this event thanks to the generosity of the Friends' School - but we need you to register for catering purposes. \n  The program is here.\n  \n\n
DTSTAMP:20200301T215518Z
END:VEVENT
END:VCALENDAR
