BEGIN:VCALENDAR
VERSION:2.0
METHOD:PUBLISH
BEGIN:VEVENT
UID:WILD_APRICOT_EVENT_2948996_SESSION_1
DTSTART:20180612T023000Z
DTEND:20180612T050000Z
SUMMARY:ACT: get-together@Radford College
LOCATION:Radford College Canberra\, 1 College St\, Bruce ACT 2617
DESCRIPTION:https://www.mitie.edu.au/event-2948996\n\nN.B. Registration is closed: past event.\n  Continuing the series of MITIE get-togethers in the Canberra area\, we have organised a lunchtime get together at Radford College Canberra on Tuesday 12th June\, 12:30 to 3:00 pm. \n  \n  \n\n  \n\n  Michael Plenty hosted the last Canberra MITIE get-together at Marist College in September 2017\n  \n\n  \n\n  \n\n  We envisage presenting a broad-ranging sample of how we do what we do - The good\, the bad and the occasionally madcap creations we come up with in our endeavours. Most of all we offer great hospitality and a chance to meet others facing similar challenges beyond the front gates of our own institutions.\n  QIRX have offered to sponsor the event with a light lunch and refreshments\n  Please RSVP by Thursday 7th June. Any specific dietary requirements should be emailed to Carl Flanagan.\n  Carl Flanagan\, ICT Operations Manager\, Radford College\n\n  \n\n
DTSTAMP:20200301T215535Z
END:VEVENT
END:VCALENDAR
