BEGIN:VCALENDAR
VERSION:2.0
METHOD:PUBLISH
BEGIN:VEVENT
UID:WILD_APRICOT_EVENT_2970431_SESSION_1
DTSTART:20181003T224500Z
DTEND:20181004T063000Z
SUMMARY:SA: MITIE Term 3 Conference 2018 @ Cedar College
LOCATION:Cedar College 215-233 Fosters Rd\, Northgate SA 5085
DESCRIPTION:https://www.mitie.edu.au/event-2970431\n\n\n  N.B. Registration is closed: past event. Here is a link to the program.\n  \n\n  \n\n  \n\n
DTSTAMP:20260424T153709Z
END:VEVENT
END:VCALENDAR
