BEGIN:VCALENDAR
VERSION:2.0
METHOD:PUBLISH
BEGIN:VEVENT
UID:WILD_APRICOT_EVENT_2971874_SESSION_1
DTSTART:20181114T210000Z
DTEND:20181115T050000Z
SUMMARY:NSW: Term 4 Conference @ Google\, Pyrmont
LOCATION:48 Pirrama Rd\, Pyrmont NSW 2009
DESCRIPTION:https://www.mitie.edu.au/event-2971874\n\n\n\n  N.B. Registration is closed: past event.\n  Registration will be free of charge\, thanks to our host and gold sponsor\, Google.\n  Registration is now open and will be strictly limited to 120. Please be mindful that registering and then not attending may limit access to this event for others.\n  Keep an eye on the Forum for more information and announcements. The program is here.\n  \n\n
DTSTAMP:20200301T215416Z
END:VEVENT
END:VCALENDAR
