BEGIN:VCALENDAR
VERSION:2.0
METHOD:PUBLISH
BEGIN:VEVENT
UID:WILD_APRICOT_EVENT_3015633_SESSION_1
DTSTART:20180927T221500Z
DTEND:20180928T060000Z
SUMMARY:QLD: MITIE Term 3 Conference @ St Joseph's College
LOCATION:St Joseph's College\, 285 Gregory Terrace\, Brisbane QLD 4000
DESCRIPTION:https://www.mitie.edu.au/event-3015633\n\n\n  N.B. Registration is closed: past event. Conference Programme is available here\n  \n\n
DTSTAMP:20200301T215454Z
END:VEVENT
END:VCALENDAR
