BEGIN:VCALENDAR
VERSION:2.0
METHOD:PUBLISH
BEGIN:VEVENT
UID:WILD_APRICOT_EVENT_3134009_SESSION_1
DTSTART:20181122T203000Z
DTEND:20181122T223000Z
SUMMARY:MITIE/ASBA Networking Breakfast
LOCATION:Ricoh Australia\, 2 Richardson Pl\, North Ryde NSW 2113
DESCRIPTION:https://www.mitie.edu.au/event-3134009\n\nThis event\, for school-based ICT leaders only\, is an opportunity to attend a networking breakfast with business managers.\n  The event\, which will be hosted by Ricoh at their premises in North Ryde\, Sydney\, will begin with registration at 7:30am and will finish by 9.30am.\n  Jointly organised by ASBA and MITIE\, this event represents our mutual understanding of the benefits for both organisations’ members in fostering closer working relationships and understanding of the pressures and tensions each face in managing their complex portfolio of responsibilities.\n  In addition to enjoying breakfast and networking with business managers from other schools\, delegates will hear short presentations from Angelo Koulos - National IT Services Sales Manager\, Ricoh and Todd Vandenberg - National Connect & Collaborate Manager\, Ricoh. For more details see this document.\n  Registration will be free for MITIE school-based ICT leaders. Numbers will be limited by the capacity to 40 MITIE members.\n  \n\n  \n\n  \n\n
DTSTAMP:20200301T215405Z
END:VEVENT
END:VCALENDAR
