BEGIN:VCALENDAR
VERSION:2.0
METHOD:PUBLISH
BEGIN:VEVENT
UID:WILD_APRICOT_EVENT_3319201_SESSION_1
DTSTART:20190415T221500Z
DTEND:20190416T060000Z
SUMMARY:NSW: Term 1 Conference 2019 @ Central Coast Grammar School
LOCATION:Arundel Rd\, Erina Heights NSW 2260
DESCRIPTION:https://www.mitie.edu.au/event-3319201\n\n\n\n  Click here for the program.\n  Do you live interstate or in regional NSW and need financial support to attend?\n  MITIE offers 3 x $500 travel scholarships to members at the Associate and Professional levels who would otherwise be unable to attend for financial reasons. For more information on who is eligible and how to apply\, check out this post .\n  Keep an eye on the Forum for announcements and more information.\n  Registrations Charges (to cover catering):\n  Forum and non-members of MITIE may register for $55 including GST\n  Associate & Professional members may register for the discounted rate of $44 including GST\n  Click here for the program.\n
DTSTAMP:20200301T215352Z
END:VEVENT
END:VCALENDAR
