BEGIN:VCALENDAR
VERSION:2.0
METHOD:PUBLISH
BEGIN:VEVENT
UID:WILD_APRICOT_EVENT_3319207_SESSION_1
DTSTART:20190707T221500Z
DTEND:20190708T060000Z
SUMMARY:TAS: Term 2 Conference 2019 @ St Mary's College Hobart
LOCATION:TAS: Term 2 Conference 2019 @ St Mary's College Hobart
DESCRIPTION:https://www.mitie.edu.au/event-3319207\n\n                                        \n\n  \n\n  \n\n  \n\n  Registration is now open\n  Registrations Charges (to cover catering):\n  Forum and non-members of MITIE may register for $55 including GST\n  Associate & Professional members may register for the discounted rate of $44 including GST\n  The program is linked here.\n  \n\n
DTSTAMP:20200301T215319Z
END:VEVENT
END:VCALENDAR
