BEGIN:VCALENDAR
VERSION:2.0
METHOD:PUBLISH
BEGIN:VEVENT
UID:WILD_APRICOT_EVENT_3356610_SESSION_1
DTSTART:20191121T221500Z
DTEND:20191122T063000Z
SUMMARY:NSW : Term 4 @ UNSW
LOCATION:UNSW\, City Campus
DESCRIPTION:https://www.mitie.edu.au/event-3356610\n\n               \n\n  \n\n  Silver Sponsors\n              \n          \n      \n\n  Registrations Charges (to cover catering):Forum and non-members of MITIE may register for $55 including GST\n  Associate & Professional members may register for the discounted rate of $44 including GST\n  The program is available here.\n  \n\n
DTSTAMP:20200301T215119Z
END:VEVENT
END:VCALENDAR
