BEGIN:VCALENDAR
VERSION:2.0
METHOD:PUBLISH
BEGIN:VEVENT
UID:WILD_APRICOT_EVENT_3360001_SESSION_1
DTSTART:20190503T033000Z
DTEND:20190503T053000Z
SUMMARY:ACT: Local Networking Event @ Canberra Girls Grammar
LOCATION:Canberra Girls Grammar School Lakeside facility\, 43 Alexandrina Drive\, Yarralumla
DESCRIPTION:https://www.mitie.edu.au/event-3360001\n\n               \n\n  Free Event\n  Canberra Girls Grammar School is hosting a\n  Local Networking Meeting \n  and would love to see you there on the 3rd of May\n  Registrations are open now and filling fast so register as soon as possible\n  Don't miss out!\n  If you have special dietary requirements please email\n  Eric Roussel by 1st May 2019.\n  \n\n  Sponsored By\n  \n\n  \n\n  \n\n
DTSTAMP:20200301T215336Z
END:VEVENT
END:VCALENDAR
