BEGIN:VCALENDAR
VERSION:2.0
METHOD:PUBLISH
BEGIN:VEVENT
UID:WILD_APRICOT_EVENT_3404803_SESSION_1
DTSTART:20190715T221500Z
DTEND:20190716T060000Z
SUMMARY:NSW: Term 2 Conference 2019 @ Barker College\, Hornsby
LOCATION:NSW: Term 2 Conference 2019 @ Barker College\, Hornsby
DESCRIPTION:https://www.mitie.edu.au/event-3404803\n\n                                     \n\n  \n\n  Registration for this event is now open.\n  Registrations Charges (to cover catering):\n  Forum and non-members of MITIE may register for $55 including GST\n  Associate & Professional members may register for the discounted rate of $44 including GST\n  The program is here.\n  \n\n
DTSTAMP:20200301T215252Z
END:VEVENT
END:VCALENDAR
