BEGIN:VCALENDAR
VERSION:2.0
METHOD:PUBLISH
BEGIN:VEVENT
UID:WILD_APRICOT_EVENT_3464559_SESSION_1
DTSTART:20190716T073000Z
DTEND:20190716T073000Z
SUMMARY:Unofficial "20th Year" Dinner
LOCATION:Hornsby RSL
DESCRIPTION:https://www.mitie.edu.au/event-3464559\n\n\n\n  Can you believe it?  MITIE has been around for 20 years\, and while we haven't planned an official event (yet)\, we thought it would be nice to have a gathering after the Term Conference and AGM.\n  Cost:  Varies\, depending on what you order :)\n  Menu:  https://hornsbyrsl.com.au/bars-dining/the-courtyard/\n  \n\n  We look forward to seeing you there.  Spread the word!\n
DTSTAMP:20200301T215239Z
END:VEVENT
END:VCALENDAR
