BEGIN:VCALENDAR
VERSION:2.0
METHOD:PUBLISH
BEGIN:VEVENT
UID:WILD_APRICOT_EVENT_3469019_SESSION_1
DTSTART:20190719T053000Z
DTEND:20190719T073000Z
SUMMARY:SA Social Event - Rio
LOCATION:RIO COFFEE 22 NELSON ST\, STEPNEY SA 5069
DESCRIPTION:https://www.mitie.edu.au/event-3469019\n\n\n\n  One of MITIE's newest initiatives is to hold casual social events between conferences\, to give members the opportunity to meet and talk in a relaxed\, casual environment.\n  During the Term 2 break\, join us at Rio for a well-earned cup of coffee\, taste some of Adelaide's best cakes and pastries from St George's Bakery\, and have a chat with your fellow MITIE members to see what's happening around SA.\n  This event is wholly sponsored by\n  \n\n  ...and includes a coffee-making demonstration\, tastings\, and the opportunity to put your own coffee-making skills to the test! The best coffee will be awarded a goody bag full of assorted culinary delights\, and a few other goodies as a prize.\n  We hope to see you there!\n\n  Note: attendance is limited to the first 20 registrations.\n  For any queries about this event\, please contact tanya.bilka@mitie.edu.au.\n  \n\n
DTSTAMP:20260424T155436Z
END:VEVENT
END:VCALENDAR
