BEGIN:VCALENDAR
VERSION:2.0
METHOD:PUBLISH
BEGIN:VEVENT
UID:WILD_APRICOT_EVENT_3504397_SESSION_1
DTSTART:20190830T070000Z
DTEND:20190830T090000Z
SUMMARY:Qld Social Event - Beers and Banter
LOCATION:Newstead Brewing Co. Doggett Street\, Newstead\, Queensland
DESCRIPTION:https://www.mitie.edu.au/event-3504397\n\n\n\n  One of MITIE's newest initiatives is to hold casual social events between conferences\, to give members the opportunity to meet and talk in a relaxed\, casual environment.\n  As we push through term 3\, join us at Newstead Brewing Co for a well-earned beer\, sample some of the craft beers brewed on site\, some nibbles and conversation with your fellow MITIE members to catch up and see what's happening in our industry and around Queensland.\n  This event is wholly sponsored by\n  \n\n  We hope to see you there!\n\n  Note: attendance is limited to the first 25 registrations.\n  For any queries about this event\, please contact matthew.gausden@mitie.edu.au.\n  \n\n
DTSTAMP:20260424T155353Z
END:VEVENT
END:VCALENDAR
