BEGIN:VCALENDAR
VERSION:2.0
METHOD:PUBLISH
BEGIN:VEVENT
UID:WILD_APRICOT_EVENT_3547819_SESSION_1
DTSTART:20191008T130000Z
DTEND:20191009T130000Z
SUMMARY:NSW: Term 3 Conference @ Oxford Falls Grammar School
LOCATION:1078 Oxford Falls Rd\, Oxford Falls NSW 2100
DESCRIPTION:https://www.mitie.edu.au/event-3547819\n\n               \n\n  Gold Sponsors\n\n      \n                                  Silver Sponsors\n\n                                                              \n  Registrations Charges (to cover catering):\n  Forum and non-members of MITIE may register for $55 (inc GST)\n  Associate & Bundle Members may register for the discounted rate of $44 (inc GST)\n  The program is available here.\n
DTSTAMP:20200301T215156Z
END:VEVENT
END:VCALENDAR
