BEGIN:VCALENDAR
VERSION:2.0
METHOD:PUBLISH
BEGIN:VEVENT
UID:WILD_APRICOT_EVENT_3566817_SESSION_1
DTSTART:20191009T213000Z
DTEND:20191009T233000Z
SUMMARY:MITIE SA Social - Breakfast
LOCATION:Cafe Vileroy\, 27 Kensington Rd\, Norwood
DESCRIPTION:https://www.mitie.edu.au/event-3566817\n\n\n  In lieu of a Semester 2 MITIE SA Conference\, please join us for some breakfast and banter instead!\n  We'll kick off around 8.30AM for a glorious full breakfast at Café Vileroy (Norwood)\, and a chance to catch up with fellow MITIE members before heading into Term 4.\n  This event is sponsored by\n   \n \n \n\n  These sponsors were locked in for the Semester 2 conference\, and are kindly sponsoring this event instead.\n  If you've any comments or queries around this event\, please contact Tanya Bilka (tanya.bilka@mitie.edu.au).\n  Hope to see you there!\n\n  \n\n
DTSTAMP:20200301T215142Z
END:VEVENT
END:VCALENDAR
