BEGIN:VCALENDAR
VERSION:2.0
METHOD:PUBLISH
BEGIN:VEVENT
UID:WILD_APRICOT_EVENT_3637212_SESSION_1
DTSTART:20191206T010000Z
DTEND:20191206T033000Z
SUMMARY:Canberra Meetup @ St Edmunds College\, Canberra
LOCATION:St Edmunds College\, Canberra
DESCRIPTION:https://www.mitie.edu.au/event-3637212\n\n\n\n       \n\n  St Edmund’s College will be holding the next MITIE meeting. The main focus for the meeting will be on dealing with a cybersecurity disaster.\n  The College will also provide an overview of some of the recent projects the IT team has been working on.\n  Any queries regarding the day can be directly sent to mmaher @stedmunds.act.edu.au\n
DTSTAMP:20260424T153759Z
END:VEVENT
END:VCALENDAR
